BEGIN:VCALENDAR
VERSION:2.0
PRODID:-//Crystal Keepes - ECPv6.15.18//NONSGML v1.0//EN
CALSCALE:GREGORIAN
METHOD:PUBLISH
X-WR-CALNAME:Crystal Keepes
X-ORIGINAL-URL:https://crystalkeepes.com
X-WR-CALDESC:Events for Crystal Keepes
REFRESH-INTERVAL;VALUE=DURATION:PT1H
X-Robots-Tag:noindex
X-PUBLISHED-TTL:PT1H
BEGIN:VTIMEZONE
TZID:America/Chicago
BEGIN:DAYLIGHT
TZOFFSETFROM:-0600
TZOFFSETTO:-0500
TZNAME:CDT
DTSTART:20170312T080000
END:DAYLIGHT
BEGIN:STANDARD
TZOFFSETFROM:-0500
TZOFFSETTO:-0600
TZNAME:CST
DTSTART:20171105T070000
END:STANDARD
BEGIN:DAYLIGHT
TZOFFSETFROM:-0600
TZOFFSETTO:-0500
TZNAME:CDT
DTSTART:20180311T080000
END:DAYLIGHT
BEGIN:STANDARD
TZOFFSETFROM:-0500
TZOFFSETTO:-0600
TZNAME:CST
DTSTART:20181104T070000
END:STANDARD
BEGIN:DAYLIGHT
TZOFFSETFROM:-0600
TZOFFSETTO:-0500
TZNAME:CDT
DTSTART:20190310T080000
END:DAYLIGHT
BEGIN:STANDARD
TZOFFSETFROM:-0500
TZOFFSETTO:-0600
TZNAME:CST
DTSTART:20191103T070000
END:STANDARD
END:VTIMEZONE
BEGIN:VEVENT
DTSTART;TZID=America/Chicago:20180627T200000
DTEND;TZID=America/Chicago:20180627T210000
DTSTAMP:20260424T112714
CREATED:20180704T194311Z
LAST-MODIFIED:20180704T194311Z
UID:17543-1530129600-1530133200@crystalkeepes.com
SUMMARY:Premiere of "Broken Trust - Gold\, Guns & God" on Investigation Discovery
DESCRIPTION:
URL:https://crystalkeepes.com/event/premiere-of-broken-trust-gold-guns-god-on-investigation-discovery/
END:VEVENT
BEGIN:VEVENT
DTSTART;TZID=America/Chicago:20180425T190000
DTEND;TZID=America/Chicago:20180425T210000
DTSTAMP:20260424T112714
CREATED:20180419T151718Z
LAST-MODIFIED:20180419T151718Z
UID:17496-1524682800-1524690000@crystalkeepes.com
SUMMARY:Speaking at Local Home Meeting
DESCRIPTION:
URL:https://crystalkeepes.com/event/speaking-at-local-home-meeting/
LOCATION:Glenn Kennedy’s Home\, 2120 Pea Ridge Rd.\, Clarksville\, TN\, 37042\, United States
ORGANIZER;CN="":MAILTO:ckeepes1@gmail.com
END:VEVENT
END:VCALENDAR